Package: BEAT Version: 1.34.0 Command: rm -rf BEAT.buildbin-libdir && mkdir BEAT.buildbin-libdir && /Users/biocbuild/BBS/utils/build-universal.sh BEAT_1.34.0.tar.gz /Library/Frameworks/R.framework/Resources/bin/R BEAT.buildbin-libdir StartedAt: 2022-10-19 09:57:30 -0400 (Wed, 19 Oct 2022) EndedAt: 2022-10-19 09:58:37 -0400 (Wed, 19 Oct 2022) EllapsedTime: 67.3 seconds RetCode: 0 Status: OK PackageFile: BEAT_1.34.0.tgz PackageFileSize: 3.334 MiB