Package: BDMMAcorrect Version: 1.13.1 Command: chmod a+r BDMMAcorrect -R && D:\biocbuild\bbs-3.15-bioc\R\bin\R.exe CMD build --keep-empty-dirs --no-resave-data BDMMAcorrect StartedAt: 2022-03-17 16:24:53 -0400 (Thu, 17 Mar 2022) EndedAt: 2022-03-17 16:37:36 -0400 (Thu, 17 Mar 2022) EllapsedTime: 762.2 seconds RetCode: 0 Status: OK PackageFile: BDMMAcorrect_1.13.1.tar.gz PackageFileSize: 386.2 KiB