git_url: https://git.bioconductor.org/packages/BDMMAcorrect git_branch: RELEASE_3_15 git_last_commit: bc7b4c2 git_last_commit_date: 2022-04-26 11:52:10 -0400 (Tue, 26 Apr 2022) Package: BDMMAcorrect Version: 1.14.0 Maintainer: ZHENWEI DAI MaintainerEmail: daizwhao at gmail.com