Package: AssessORF Version: 1.14.0 Command: /Library/Frameworks/R.framework/Resources/bin/R CMD check --install=check:AssessORF.install-out.txt --library=/Library/Frameworks/R.framework/Resources/library --no-vignettes --timings AssessORF_1.14.0.tar.gz StartedAt: 2022-10-18 23:18:25 -0400 (Tue, 18 Oct 2022) EndedAt: 2022-10-18 23:22:15 -0400 (Tue, 18 Oct 2022) EllapsedTime: 230.2 seconds RetCode: 0 Status: OK CheckDir: AssessORF.Rcheck Warnings: 0