git_url: https://git.bioconductor.org/packages/AnVILBilling git_branch: RELEASE_3_15 git_last_commit: 48e30c6 git_last_commit_date: 2022-04-26 12:10:08 -0400 (Tue, 26 Apr 2022) Package: AnVILBilling Version: 1.6.0 Maintainer: Vince Carey MaintainerEmail: stvjc at channing.harvard.edu