Package: ASGSCA Version: 1.29.0 Command: D:\biocbuild\bbs-3.15-bioc\R\bin\R.exe CMD check --no-multiarch --install=check:ASGSCA.install-out.txt --library=D:\biocbuild\bbs-3.15-bioc\R\library --no-vignettes --timings ASGSCA_1.29.0.tar.gz StartedAt: 2022-03-17 18:27:53 -0400 (Thu, 17 Mar 2022) EndedAt: 2022-03-17 18:30:51 -0400 (Thu, 17 Mar 2022) EllapsedTime: 178.0 seconds RetCode: 0 Status: OK CheckDir: ASGSCA.Rcheck Warnings: 0