Package: AMARETTO Version: 1.11.0 Command: rm -rf AMARETTO.buildbin-libdir && mkdir AMARETTO.buildbin-libdir && D:\biocbuild\bbs-3.15-bioc\R\bin\R.exe CMD INSTALL --build --library=AMARETTO.buildbin-libdir AMARETTO_1.11.0.tar.gz StartedAt: 2022-03-17 20:51:22 -0400 (Thu, 17 Mar 2022) EndedAt: 2022-03-17 20:53:20 -0400 (Thu, 17 Mar 2022) EllapsedTime: 117.9 seconds RetCode: 0 Status: OK PackageFile: AMARETTO_1.11.0.zip PackageFileSize: 3.5 MiB