Package: AMARETTO Version: 1.12.0 Command: /Library/Frameworks/R.framework/Resources/bin/R CMD check --install=check:AMARETTO.install-out.txt --library=/Library/Frameworks/R.framework/Resources/library --no-vignettes --timings AMARETTO_1.12.0.tar.gz StartedAt: 2022-10-18 23:07:19 -0400 (Tue, 18 Oct 2022) EndedAt: 2022-10-18 23:14:28 -0400 (Tue, 18 Oct 2022) EllapsedTime: 429.2 seconds RetCode: 1 Status: ERROR CheckDir: AMARETTO.Rcheck Warnings: NA