Package: ABarray Version: 1.63.0 Command: rm -rf ABarray.buildbin-libdir && mkdir ABarray.buildbin-libdir && D:\biocbuild\bbs-3.15-bioc\R\bin\R.exe CMD INSTALL --build --library=ABarray.buildbin-libdir ABarray_1.63.0.tar.gz StartedAt: 2022-03-17 20:51:22 -0400 (Thu, 17 Mar 2022) EndedAt: 2022-03-17 20:51:54 -0400 (Thu, 17 Mar 2022) EllapsedTime: 32.7 seconds RetCode: 0 Status: OK PackageFile: ABarray_1.63.0.zip PackageFileSize: 632.9 KiB