Package: variants Version: 1.18.0 Command: chmod a+r variants -R && D:\biocbuild\bbs-3.14-bioc\R\bin\R.exe CMD build --keep-empty-dirs --no-resave-data variants StartedAt: 2022-04-11 15:10:00 -0400 (Mon, 11 Apr 2022) EndedAt: 2022-04-11 15:10:47 -0400 (Mon, 11 Apr 2022) EllapsedTime: 46.5 seconds RetCode: 0 Status: OK PackageFile: variants_1.18.0.tar.gz PackageFileSize: 4.84 MiB