Package: variants Version: 1.18.0 Command: /home/biocbuild/bbs-3.14-bioc/R/bin/R CMD build --keep-empty-dirs --no-resave-data variants StartedAt: 2022-04-11 15:04:49 -0400 (Mon, 11 Apr 2022) EndedAt: 2022-04-11 15:05:43 -0400 (Mon, 11 Apr 2022) EllapsedTime: 53.6 seconds RetCode: 0 Status: OK PackageFile: variants_1.18.0.tar.gz PackageFileSize: 4.84 MiB