Package: simpleSingleCell Version: 1.18.0 Command: /Library/Frameworks/R.framework/Resources/bin/R CMD build --keep-empty-dirs --no-resave-data simpleSingleCell StartedAt: 2022-04-11 15:13:56 -0400 (Mon, 11 Apr 2022) EndedAt: 2022-04-11 15:14:44 -0400 (Mon, 11 Apr 2022) EllapsedTime: 48.4 seconds RetCode: 0 Status: OK PackageFile: simpleSingleCell_1.18.0.tar.gz PackageFileSize: 2.74 MiB