git_url: https://git.bioconductor.org/packages/simpleSingleCell git_branch: RELEASE_3_14 git_last_commit: d94195e git_last_commit_date: 2021-10-26 11:16:08 -0400 (Tue, 26 Oct 2021) Package: simpleSingleCell Version: 1.18.0 Maintainer: Aaron Lun MaintainerEmail: infinite.monkeys.with.keyboards at gmail.com