Package: rnaseqDTU Version: 1.14.0 Command: /home/biocbuild/bbs-3.14-bioc/R/bin/R CMD INSTALL rnaseqDTU StartedAt: 2022-04-11 15:00:08 -0400 (Mon, 11 Apr 2022) EndedAt: 2022-04-11 15:00:52 -0400 (Mon, 11 Apr 2022) EllapsedTime: 43.5 seconds RetCode: 0 Status: OK