git_url: https://git.bioconductor.org/packages/rnaseqDTU git_branch: RELEASE_3_14 git_last_commit: a33d979 git_last_commit_date: 2021-10-26 11:16:28 -0400 (Tue, 26 Oct 2021) Package: rnaseqDTU Version: 1.14.0 Maintainer: Michael Love MaintainerEmail: michaelisaiahlove at gmail.com