Package: recountWorkflow Version: 1.18.0 Command: chmod a+r recountWorkflow -R && D:\biocbuild\bbs-3.14-bioc\R\bin\R.exe CMD build --keep-empty-dirs --no-resave-data recountWorkflow StartedAt: 2022-04-11 15:06:59 -0400 (Mon, 11 Apr 2022) EndedAt: 2022-04-11 15:20:38 -0400 (Mon, 11 Apr 2022) EllapsedTime: 818.3 seconds RetCode: 0 Status: OK PackageFile: recountWorkflow_1.18.0.tar.gz PackageFileSize: 924.7 KiB