Package: recountWorkflow Version: 1.18.0 Command: /home/biocbuild/bbs-3.14-bioc/R/bin/R CMD INSTALL recountWorkflow StartedAt: 2022-04-11 15:00:13 -0400 (Mon, 11 Apr 2022) EndedAt: 2022-04-11 15:01:12 -0400 (Mon, 11 Apr 2022) EllapsedTime: 58.8 seconds RetCode: 0 Status: OK