Package: recountWorkflow Version: 1.18.0 Command: /home/biocbuild/bbs-3.14-bioc/R/bin/R CMD build --keep-empty-dirs --no-resave-data recountWorkflow StartedAt: 2022-04-11 15:02:48 -0400 (Mon, 11 Apr 2022) EndedAt: 2022-04-11 15:30:52 -0400 (Mon, 11 Apr 2022) EllapsedTime: 1683.2 seconds RetCode: 0 Status: OK PackageFile: recountWorkflow_1.18.0.tar.gz PackageFileSize: 2.114 MiB