git_url: https://git.bioconductor.org/packages/recountWorkflow git_branch: RELEASE_3_14 git_last_commit: 43b9bc1 git_last_commit_date: 2021-10-26 11:15:48 -0400 (Tue, 26 Oct 2021) Package: recountWorkflow Version: 1.18.0 Maintainer: Leonardo Collado-Torres MaintainerEmail: lcolladotor at gmail.com