Package: methylationArrayAnalysis Version: 1.18.0 Command: /Library/Frameworks/R.framework/Resources/bin/R CMD build --keep-empty-dirs --no-resave-data methylationArrayAnalysis StartedAt: 2022-04-11 15:08:47 -0400 (Mon, 11 Apr 2022) EndedAt: 2022-04-11 15:19:32 -0400 (Mon, 11 Apr 2022) EllapsedTime: 644.4 seconds RetCode: 0 Status: OK PackageFile: methylationArrayAnalysis_1.18.0.tar.gz PackageFileSize: 218.2 MiB