git_url: https://git.bioconductor.org/packages/methylationArrayAnalysis git_branch: RELEASE_3_14 git_last_commit: fcf8d8e git_last_commit_date: 2021-10-26 11:15:40 -0400 (Tue, 26 Oct 2021) Package: methylationArrayAnalysis Version: 1.18.0 Maintainer: Jovana Maksimovic MaintainerEmail: jovana.maksimovic at mcri.edu.au