Package: fluentGenomics Version: 1.6.0 Command: C:\cygwin\bin\curl.exe -O http://155.52.207.166/BBS/3.14/workflows/src/contrib/fluentGenomics_1.6.0.tar.gz && rm -rf fluentGenomics.buildbin-libdir && mkdir fluentGenomics.buildbin-libdir && D:\biocbuild\bbs-3.14-bioc\R\bin\R.exe CMD INSTALL --merge-multiarch --build --library=fluentGenomics.buildbin-libdir fluentGenomics_1.6.0.tar.gz && D:\biocbuild\bbs-3.14-bioc\R\bin\R.exe CMD INSTALL fluentGenomics_1.6.0.zip && rm fluentGenomics_1.6.0.tar.gz fluentGenomics_1.6.0.zip StartedAt: 2022-04-11 15:01:03 -0400 (Mon, 11 Apr 2022) EndedAt: 2022-04-11 15:01:50 -0400 (Mon, 11 Apr 2022) EllapsedTime: 46.5 seconds RetCode: 0 Status: OK