Package: fluentGenomics Version: 1.6.0 Command: chmod a+r fluentGenomics -R && D:\biocbuild\bbs-3.14-bioc\R\bin\R.exe CMD build --keep-empty-dirs --no-resave-data fluentGenomics StartedAt: 2022-04-11 15:06:12 -0400 (Mon, 11 Apr 2022) EndedAt: 2022-04-11 15:08:41 -0400 (Mon, 11 Apr 2022) EllapsedTime: 148.8 seconds RetCode: 0 Status: OK PackageFile: fluentGenomics_1.6.0.tar.gz PackageFileSize: 5.36 MiB