Package: fluentGenomics Version: 1.6.0 Command: /home/biocbuild/bbs-3.14-bioc/R/bin/R CMD build --keep-empty-dirs --no-resave-data fluentGenomics StartedAt: 2022-04-11 15:02:42 -0400 (Mon, 11 Apr 2022) EndedAt: 2022-04-11 15:05:59 -0400 (Mon, 11 Apr 2022) EllapsedTime: 197.3 seconds RetCode: 0 Status: OK PackageFile: fluentGenomics_1.6.0.tar.gz PackageFileSize: 5.389 MiB