Package: fluentGenomics Version: 1.6.0 Command: /Library/Frameworks/R.framework/Resources/bin/R CMD INSTALL fluentGenomics StartedAt: 2022-04-11 15:01:09 -0400 (Mon, 11 Apr 2022) EndedAt: 2022-04-11 15:01:42 -0400 (Mon, 11 Apr 2022) EllapsedTime: 33.0 seconds RetCode: 0 Status: OK