Package: fluentGenomics Version: 1.6.0 Command: /Library/Frameworks/R.framework/Resources/bin/R CMD build --keep-empty-dirs --no-resave-data fluentGenomics StartedAt: 2022-04-11 15:04:31 -0400 (Mon, 11 Apr 2022) EndedAt: 2022-04-11 15:08:44 -0400 (Mon, 11 Apr 2022) EllapsedTime: 253.2 seconds RetCode: 0 Status: OK PackageFile: fluentGenomics_1.6.0.tar.gz PackageFileSize: 5.39 MiB