git_url: https://git.bioconductor.org/packages/fluentGenomics git_branch: RELEASE_3_14 git_last_commit: ab6b1e0 git_last_commit_date: 2021-10-26 11:16:44 -0400 (Tue, 26 Oct 2021) Package: fluentGenomics Version: 1.6.0 Maintainer: Stuart Lee MaintainerEmail: lee.s at wehi.edu.au