Package: cytofWorkflow Version: 1.18.0 Command: C:\cygwin\bin\curl.exe -O http://155.52.207.166/BBS/3.14/workflows/src/contrib/cytofWorkflow_1.18.0.tar.gz && rm -rf cytofWorkflow.buildbin-libdir && mkdir cytofWorkflow.buildbin-libdir && D:\biocbuild\bbs-3.14-bioc\R\bin\R.exe CMD INSTALL --merge-multiarch --build --library=cytofWorkflow.buildbin-libdir cytofWorkflow_1.18.0.tar.gz && D:\biocbuild\bbs-3.14-bioc\R\bin\R.exe CMD INSTALL cytofWorkflow_1.18.0.zip && rm cytofWorkflow_1.18.0.tar.gz cytofWorkflow_1.18.0.zip StartedAt: 2022-04-11 15:01:31 -0400 (Mon, 11 Apr 2022) EndedAt: 2022-04-11 15:02:34 -0400 (Mon, 11 Apr 2022) EllapsedTime: 62.9 seconds RetCode: 0 Status: OK