Package: cytofWorkflow Version: 1.18.0 Command: /Library/Frameworks/R.framework/Resources/bin/R CMD INSTALL cytofWorkflow StartedAt: 2022-04-11 15:01:32 -0400 (Mon, 11 Apr 2022) EndedAt: 2022-04-11 15:02:12 -0400 (Mon, 11 Apr 2022) EllapsedTime: 40.5 seconds RetCode: 0 Status: OK