Package: cytofWorkflow Version: 1.18.0 Command: /Library/Frameworks/R.framework/Resources/bin/R CMD build --keep-empty-dirs --no-resave-data cytofWorkflow StartedAt: 2022-04-11 15:04:10 -0400 (Mon, 11 Apr 2022) EndedAt: 2022-04-11 15:10:52 -0400 (Mon, 11 Apr 2022) EllapsedTime: 402.0 seconds RetCode: 0 Status: OK PackageFile: cytofWorkflow_1.18.0.tar.gz PackageFileSize: 5.76 MiB