git_url: https://git.bioconductor.org/packages/cytofWorkflow git_branch: RELEASE_3_14 git_last_commit: 328c5fe git_last_commit_date: 2021-10-26 11:15:15 -0400 (Tue, 26 Oct 2021) Package: cytofWorkflow Version: 1.18.0 Maintainer: Mark D. Robinson MaintainerEmail: mark.robinson at imls.uzh.ch