Package: arrays Version: 1.20.0 Command: C:\cygwin\bin\curl.exe -O http://155.52.207.166/BBS/3.14/workflows/src/contrib/arrays_1.20.0.tar.gz && rm -rf arrays.buildbin-libdir && mkdir arrays.buildbin-libdir && D:\biocbuild\bbs-3.14-bioc\R\bin\R.exe CMD INSTALL --merge-multiarch --build --library=arrays.buildbin-libdir arrays_1.20.0.tar.gz && D:\biocbuild\bbs-3.14-bioc\R\bin\R.exe CMD INSTALL arrays_1.20.0.zip && rm arrays_1.20.0.tar.gz arrays_1.20.0.zip StartedAt: 2022-04-11 15:00:41 -0400 (Mon, 11 Apr 2022) EndedAt: 2022-04-11 15:01:03 -0400 (Mon, 11 Apr 2022) EllapsedTime: 22.0 seconds RetCode: 0 Status: OK