Package: arrays Version: 1.20.0 Command: /home/biocbuild/bbs-3.14-bioc/R/bin/R CMD INSTALL arrays StartedAt: 2022-04-11 15:00:07 -0400 (Mon, 11 Apr 2022) EndedAt: 2022-04-11 15:00:09 -0400 (Mon, 11 Apr 2022) EllapsedTime: 2.2 seconds RetCode: 0 Status: OK