Package: arrays Version: 1.20.0 Command: /home/biocbuild/bbs-3.14-bioc/R/bin/R CMD build --keep-empty-dirs --no-resave-data arrays StartedAt: 2022-04-11 15:02:42 -0400 (Mon, 11 Apr 2022) EndedAt: 2022-04-11 15:03:05 -0400 (Mon, 11 Apr 2022) EllapsedTime: 23.3 seconds RetCode: 0 Status: OK PackageFile: arrays_1.20.0.tar.gz PackageFileSize: 9.64 MiB