Package: arrays Version: 1.20.0 Command: /Library/Frameworks/R.framework/Resources/bin/R CMD INSTALL arrays StartedAt: 2022-04-11 15:00:19 -0400 (Mon, 11 Apr 2022) EndedAt: 2022-04-11 15:00:33 -0400 (Mon, 11 Apr 2022) EllapsedTime: 13.4 seconds RetCode: 0 Status: OK