Package: arrays Version: 1.20.0 Command: /Library/Frameworks/R.framework/Resources/bin/R CMD build --keep-empty-dirs --no-resave-data arrays StartedAt: 2022-04-11 15:04:10 -0400 (Mon, 11 Apr 2022) EndedAt: 2022-04-11 15:04:37 -0400 (Mon, 11 Apr 2022) EllapsedTime: 27.0 seconds RetCode: 0 Status: OK PackageFile: arrays_1.20.0.tar.gz PackageFileSize: 9.64 MiB