Package: annotation Version: 1.18.1 Command: C:\cygwin\bin\curl.exe -O http://155.52.207.166/BBS/3.14/workflows/src/contrib/annotation_1.18.1.tar.gz && rm -rf annotation.buildbin-libdir && mkdir annotation.buildbin-libdir && D:\biocbuild\bbs-3.14-bioc\R\bin\R.exe CMD INSTALL --merge-multiarch --build --library=annotation.buildbin-libdir annotation_1.18.1.tar.gz && D:\biocbuild\bbs-3.14-bioc\R\bin\R.exe CMD INSTALL annotation_1.18.1.zip && rm annotation_1.18.1.tar.gz annotation_1.18.1.zip StartedAt: 2022-04-11 15:00:49 -0400 (Mon, 11 Apr 2022) EndedAt: 2022-04-11 15:01:26 -0400 (Mon, 11 Apr 2022) EllapsedTime: 37.3 seconds RetCode: 0 Status: OK