Package: annotation Version: 1.18.1 Command: /Library/Frameworks/R.framework/Resources/bin/R CMD build --keep-empty-dirs --no-resave-data annotation StartedAt: 2022-04-11 15:04:10 -0400 (Mon, 11 Apr 2022) EndedAt: 2022-04-11 15:10:23 -0400 (Mon, 11 Apr 2022) EllapsedTime: 373.3 seconds RetCode: 0 Status: OK PackageFile: annotation_1.18.1.tar.gz PackageFileSize: 870.3 KiB