git_url: https://git.bioconductor.org/packages/annotation git_branch: RELEASE_3_14 git_last_commit: 04ff84b git_last_commit_date: 2022-04-05 17:01:27 -0400 (Tue, 05 Apr 2022) Package: annotation Version: 1.18.1 Maintainer: Bioconductor Package Maintainer MaintainerEmail: maintainer at bioconductor.org