Package: SingscoreAMLMutations Version: 1.10.0 Command: C:\cygwin\bin\curl.exe -O http://155.52.207.166/BBS/3.14/workflows/src/contrib/SingscoreAMLMutations_1.10.0.tar.gz && rm -rf SingscoreAMLMutations.buildbin-libdir && mkdir SingscoreAMLMutations.buildbin-libdir && D:\biocbuild\bbs-3.14-bioc\R\bin\R.exe CMD INSTALL --merge-multiarch --build --library=SingscoreAMLMutations.buildbin-libdir SingscoreAMLMutations_1.10.0.tar.gz && D:\biocbuild\bbs-3.14-bioc\R\bin\R.exe CMD INSTALL SingscoreAMLMutations_1.10.0.zip && rm SingscoreAMLMutations_1.10.0.tar.gz SingscoreAMLMutations_1.10.0.zip StartedAt: 2022-04-11 15:01:36 -0400 (Mon, 11 Apr 2022) EndedAt: 2022-04-11 15:02:09 -0400 (Mon, 11 Apr 2022) EllapsedTime: 33.4 seconds RetCode: 0 Status: OK