Package: SingscoreAMLMutations Version: 1.10.0 Command: /Library/Frameworks/R.framework/Resources/bin/R CMD INSTALL SingscoreAMLMutations StartedAt: 2022-04-11 15:01:36 -0400 (Mon, 11 Apr 2022) EndedAt: 2022-04-11 15:02:22 -0400 (Mon, 11 Apr 2022) EllapsedTime: 46.2 seconds RetCode: 0 Status: OK