Package: RnaSeqGeneEdgeRQL Version: 1.18.0 Command: chmod a+r RnaSeqGeneEdgeRQL -R && D:\biocbuild\bbs-3.14-bioc\R\bin\R.exe CMD build --keep-empty-dirs --no-resave-data RnaSeqGeneEdgeRQL StartedAt: 2022-04-11 15:08:46 -0400 (Mon, 11 Apr 2022) EndedAt: 2022-04-11 15:09:46 -0400 (Mon, 11 Apr 2022) EllapsedTime: 60.2 seconds RetCode: 0 Status: OK PackageFile: RnaSeqGeneEdgeRQL_1.18.0.tar.gz PackageFileSize: 1.132 MiB