Package: GeoMxWorkflows Version: 1.0.1 Command: chmod a+r GeoMxWorkflows -R && D:\biocbuild\bbs-3.14-bioc\R\bin\R.exe CMD build --keep-empty-dirs --no-resave-data GeoMxWorkflows StartedAt: 2022-04-11 15:06:12 -0400 (Mon, 11 Apr 2022) EndedAt: 2022-04-11 15:29:59 -0400 (Mon, 11 Apr 2022) EllapsedTime: 1427.7 seconds RetCode: 0 Status: OK PackageFile: GeoMxWorkflows_1.0.1.tar.gz PackageFileSize: 18.68 MiB