Package: ExpressionNormalizationWorkflow Version: 1.20.0 Command: /home/biocbuild/bbs-3.14-bioc/R/bin/R CMD INSTALL ExpressionNormalizationWorkflow StartedAt: 2022-04-11 15:00:08 -0400 (Mon, 11 Apr 2022) EndedAt: 2022-04-11 15:00:31 -0400 (Mon, 11 Apr 2022) EllapsedTime: 23.4 seconds RetCode: 0 Status: OK