Package: ExpressionNormalizationWorkflow Version: 1.20.0 Command: /Library/Frameworks/R.framework/Resources/bin/R CMD INSTALL ExpressionNormalizationWorkflow StartedAt: 2022-04-11 15:00:22 -0400 (Mon, 11 Apr 2022) EndedAt: 2022-04-11 15:00:47 -0400 (Mon, 11 Apr 2022) EllapsedTime: 25.4 seconds RetCode: 0 Status: OK