Package: ExpressionNormalizationWorkflow Version: 1.20.0 Command: /Library/Frameworks/R.framework/Resources/bin/R CMD build --keep-empty-dirs --no-resave-data ExpressionNormalizationWorkflow StartedAt: 2022-04-11 15:04:27 -0400 (Mon, 11 Apr 2022) EndedAt: 2022-04-11 15:12:46 -0400 (Mon, 11 Apr 2022) EllapsedTime: 498.6 seconds RetCode: 0 Status: OK PackageFile: ExpressionNormalizationWorkflow_1.20.0.tar.gz PackageFileSize: 3.023 MiB