Package: BiocMetaWorkflow Version: 1.16.0 Command: chmod a+r BiocMetaWorkflow -R && D:\biocbuild\bbs-3.14-bioc\R\bin\R.exe CMD build --keep-empty-dirs --no-resave-data BiocMetaWorkflow StartedAt: 2022-04-11 15:06:12 -0400 (Mon, 11 Apr 2022) EndedAt: 2022-04-11 15:06:34 -0400 (Mon, 11 Apr 2022) EllapsedTime: 22.1 seconds RetCode: 0 Status: OK PackageFile: BiocMetaWorkflow_1.16.0.tar.gz PackageFileSize: 401.2 KiB