Package: BiocMetaWorkflow Version: 1.16.0 Command: /Library/Frameworks/R.framework/Resources/bin/R CMD INSTALL BiocMetaWorkflow StartedAt: 2022-04-11 15:00:19 -0400 (Mon, 11 Apr 2022) EndedAt: 2022-04-11 15:00:25 -0400 (Mon, 11 Apr 2022) EllapsedTime: 6.5 seconds RetCode: 0 Status: OK