git_url: https://git.bioconductor.org/packages/BiocMetaWorkflow git_branch: RELEASE_3_14 git_last_commit: 15551f7 git_last_commit_date: 2021-10-26 11:16:20 -0400 (Tue, 26 Oct 2021) Package: BiocMetaWorkflow Version: 1.16.0 Maintainer: Mike Smith MaintainerEmail: grimbough at gmail.com