Package: tartare Version: 1.8.0 Command: /home/biocbuild/bbs-3.14-bioc/R/bin/R CMD check --install=check:tartare.install-out.txt --library=/home/biocbuild/bbs-3.14-bioc/R/library --no-vignettes --timings tartare_1.8.0.tar.gz StartedAt: 2022-04-13 11:51:53 -0400 (Wed, 13 Apr 2022) EndedAt: 2022-04-13 11:53:22 -0400 (Wed, 13 Apr 2022) EllapsedTime: 88.5 seconds RetCode: 0 Status: OK CheckDir: tartare.Rcheck Warnings: 0